BEGIN:VCALENDAR
PRODID:-//Microsoft Corporation//Outlook 11.0 MIMEDIR//EN
VERSION:2.0
CALSCALE:GREGORIAN
METHOD:PUBLISH
BEGIN:VEVENT
UID:20260421T120050-5521213@insurope.com
DTSTART:20211116T000000
DTEND:20211118T000000
DTSTAMP:20260421T120050
SUMMARY:Regional Sales Meetings Webinars November 2021
DESCRIPTION: This event is for our Network Members and staff only.

Dear Member of the Insurope Network,
You are welcome to join us at the Insurope’s Regional Sales Meeting Webinar.
We will group you in sessions based on your location and time zone. The webinars will take place on:

Tuesday 16 November from 10.30 AM to 12.30 PM (EST) for the Americas 
Wednesday 17 November from 9.30 AM to 11.30 AM (SGT) for APAC
Thursday 18 November from 2.30 PM to 4.30 PM (CET)for EMEA

If you want to join us and have not received an invitation, please send an email to <a title="Sales Meeting November 2021" href="mailto:marketing@insurope.com">marketing@insurope.com</a>
Thank you!
The marketing team
LOCATION: Virtual webinars, , 
TRANSP:OPAQUE
END:VEVENT
END:VCALENDAR
